BEGIN:VCALENDAR
VERSION:2.0
PRODID:-//Project Management Institute Romania - ECPv6.15.17//NONSGML v1.0//EN
CALSCALE:GREGORIAN
METHOD:PUBLISH
X-WR-CALNAME:Project Management Institute Romania
X-ORIGINAL-URL:https://pmi.ro/en
X-WR-CALDESC:Evenimente pentru Project Management Institute Romania
REFRESH-INTERVAL;VALUE=DURATION:PT1H
X-Robots-Tag:noindex
X-PUBLISHED-TTL:PT1H
BEGIN:VTIMEZONE
TZID:Europe/Bucharest
BEGIN:DAYLIGHT
TZOFFSETFROM:+0200
TZOFFSETTO:+0300
TZNAME:EEST
DTSTART:20240331T010000
END:DAYLIGHT
BEGIN:STANDARD
TZOFFSETFROM:+0300
TZOFFSETTO:+0200
TZNAME:EET
DTSTART:20241027T010000
END:STANDARD
BEGIN:DAYLIGHT
TZOFFSETFROM:+0200
TZOFFSETTO:+0300
TZNAME:EEST
DTSTART:20250330T010000
END:DAYLIGHT
BEGIN:STANDARD
TZOFFSETFROM:+0300
TZOFFSETTO:+0200
TZNAME:EET
DTSTART:20251026T010000
END:STANDARD
BEGIN:DAYLIGHT
TZOFFSETFROM:+0200
TZOFFSETTO:+0300
TZNAME:EEST
DTSTART:20260329T010000
END:DAYLIGHT
BEGIN:STANDARD
TZOFFSETFROM:+0300
TZOFFSETTO:+0200
TZNAME:EET
DTSTART:20261025T010000
END:STANDARD
END:VTIMEZONE
BEGIN:VEVENT
DTSTART;TZID=Europe/Bucharest:20250324T190000
DTEND;TZID=Europe/Bucharest:20250324T200000
DTSTAMP:20260423T090745
CREATED:20250323T093716Z
LAST-MODIFIED:20250323T093716Z
UID:5963-1742842800-1742846400@pmi.ro
SUMMARY:Adunarea Generală a Membrilor 2025
DESCRIPTION:Dragi Membri PMI România Chapter\,\n\nComitetul director al PMI România Chapter vă invită pe data de 24.03.2025 | 7:00 – 8:00 PM la Adunarea Generală a Membrilor în cadrul căreia se vor discuta următoarele subiecte:\n\n\nAprobarea veniturilor si cheltuielilor din anul 2024\n\n\nObiective generale ale PMI RO pentru anul 2025\n\n\nAlte subiecte de interes\n\n\nVă invităm să participați la eveniment.\n\nCu stimă\,\nEchipa PMI Romania Chapter
URL:https://pmi.ro/en/event/adunarea-generala-a-membrilor-2025/
END:VEVENT
END:VCALENDAR