BEGIN:VCALENDAR
VERSION:2.0
PRODID:-//Project Management Institute Romania - ECPv6.15.17//NONSGML v1.0//EN
CALSCALE:GREGORIAN
METHOD:PUBLISH
X-WR-CALNAME:Project Management Institute Romania
X-ORIGINAL-URL:https://pmi.ro/en
X-WR-CALDESC:Evenimente pentru Project Management Institute Romania
REFRESH-INTERVAL;VALUE=DURATION:PT1H
X-Robots-Tag:noindex
X-PUBLISHED-TTL:PT1H
BEGIN:VTIMEZONE
TZID:Europe/Bucharest
BEGIN:DAYLIGHT
TZOFFSETFROM:+0200
TZOFFSETTO:+0300
TZNAME:EEST
DTSTART:20240331T010000
END:DAYLIGHT
BEGIN:STANDARD
TZOFFSETFROM:+0300
TZOFFSETTO:+0200
TZNAME:EET
DTSTART:20241027T010000
END:STANDARD
BEGIN:DAYLIGHT
TZOFFSETFROM:+0200
TZOFFSETTO:+0300
TZNAME:EEST
DTSTART:20250330T010000
END:DAYLIGHT
BEGIN:STANDARD
TZOFFSETFROM:+0300
TZOFFSETTO:+0200
TZNAME:EET
DTSTART:20251026T010000
END:STANDARD
BEGIN:DAYLIGHT
TZOFFSETFROM:+0200
TZOFFSETTO:+0300
TZNAME:EEST
DTSTART:20260329T010000
END:DAYLIGHT
BEGIN:STANDARD
TZOFFSETFROM:+0300
TZOFFSETTO:+0200
TZNAME:EET
DTSTART:20261025T010000
END:STANDARD
END:VTIMEZONE
BEGIN:VEVENT
DTSTART;TZID=Europe/Bucharest:20250709T190000
DTEND;TZID=Europe/Bucharest:20250709T200000
DTSTAMP:20260423T005207
CREATED:20250706T162128Z
LAST-MODIFIED:20250706T162144Z
UID:6266-1752087600-1752091200@pmi.ro
SUMMARY:LinkedIn pentru managerii de proiect
DESCRIPTION:☀️ Vara este în toi\, iar în timp ce visezi la weekend… de ce să nu dai și profilului tău de LinkedIn o strălucire? \n🔥Nu uita să te înscrii la atelierul nostru față în față și să înveți cum să-ți transformi profilul într-o reprezentare clară și sigură a cine ești și a ceea ce aduci. \n📅 Miercuri\, 9 iulie | 🕖 19:00–20:00\n📍 ASE București | 🎤 Vorbitor: Olena Stepura | Vicepreședinte Marketing\, PMI Lituania\n🎓 1 PDU – Power Skills | 📕 Limbă: Engleză \nMembri PMI – 0 RON → Înregistrați-vă aici \nPersoanele care nu sunt membri PMI – 50 RON → Folosiți următorul link apoi completați formularul de înregistrare pentru a vă înscrie \n🤝 O inițiativă comună a filialei PMI România și filialei PMI Lituania \nNe vedem acolo!
URL:https://pmi.ro/en/event/linkedin-pentru-anagerii-de-proiect/
END:VEVENT
END:VCALENDAR