BEGIN:VCALENDAR
VERSION:2.0
PRODID:-//Project Management Institute Romania - ECPv6.15.17//NONSGML v1.0//EN
CALSCALE:GREGORIAN
METHOD:PUBLISH
X-ORIGINAL-URL:https://pmi.ro/en
X-WR-CALDESC:Evenimente pentru Project Management Institute Romania
REFRESH-INTERVAL;VALUE=DURATION:PT1H
X-Robots-Tag:noindex
X-PUBLISHED-TTL:PT1H
BEGIN:VTIMEZONE
TZID:Europe/Bucharest
BEGIN:DAYLIGHT
TZOFFSETFROM:+0200
TZOFFSETTO:+0300
TZNAME:EEST
DTSTART:20240331T010000
END:DAYLIGHT
BEGIN:STANDARD
TZOFFSETFROM:+0300
TZOFFSETTO:+0200
TZNAME:EET
DTSTART:20241027T010000
END:STANDARD
BEGIN:DAYLIGHT
TZOFFSETFROM:+0200
TZOFFSETTO:+0300
TZNAME:EEST
DTSTART:20250330T010000
END:DAYLIGHT
BEGIN:STANDARD
TZOFFSETFROM:+0300
TZOFFSETTO:+0200
TZNAME:EET
DTSTART:20251026T010000
END:STANDARD
BEGIN:DAYLIGHT
TZOFFSETFROM:+0200
TZOFFSETTO:+0300
TZNAME:EEST
DTSTART:20260329T010000
END:DAYLIGHT
BEGIN:STANDARD
TZOFFSETFROM:+0300
TZOFFSETTO:+0200
TZNAME:EET
DTSTART:20261025T010000
END:STANDARD
END:VTIMEZONE
BEGIN:VEVENT
DTSTART;TZID=Europe/Bucharest:20250809T103000
DTEND;TZID=Europe/Bucharest:20250809T123000
DTSTAMP:20260422T215917
CREATED:20250806T141008Z
LAST-MODIFIED:20250806T141747Z
UID:6305-1754735400-1754742600@pmi.ro
SUMMARY:PM Cafe editia august 2025
DESCRIPTION:Dragă comunitate PMI\, \nNe apropiem cu pași repezi de întâlnirea ☕ PM Cafe București din 9 August 2025\, un eveniment informal dedicat membrilor PMI Romania Chapter 💫 \nVă invităm să petrecem împreună o dimineață dedicată dialogului autentic\, inspirației profesionale și conexiunilor care contează – invitaţiile deja au fost transmise pe email 💫 \nVă reamintim detaliile evenimentului:\n🗓 Când: Sâmbătă\, 09.08.2025\, între orele 10:30 și 12:30\n📍 Unde: Locația va fi comunicată pe mail odată cu confirmarea înregistrării \nDacă ești deja înscris\, ne bucurăm și abia așteptăm să ne revedem! ✨\nDacă nu ai apucat încă\, vestea bună e că mai sunt câteva locuri disponibile\, dar nu pentru mult timp! ⏳ \nVă așteptăm cu drag!\nEchipa PMI România Chapter\n#PMIRomania #PMCafe #ProjectManagement #Networking #Bucuresti #Community \n\n\n 
URL:https://pmi.ro/en/event/pm-cafe-editia-august-2025/
END:VEVENT
END:VCALENDAR