BEGIN:VCALENDAR
VERSION:2.0
PRODID:-//Project Management Institute Romania - ECPv6.15.17//NONSGML v1.0//EN
CALSCALE:GREGORIAN
METHOD:PUBLISH
X-ORIGINAL-URL:https://pmi.ro/en
X-WR-CALDESC:Evenimente pentru Project Management Institute Romania
REFRESH-INTERVAL;VALUE=DURATION:PT1H
X-Robots-Tag:noindex
X-PUBLISHED-TTL:PT1H
BEGIN:VTIMEZONE
TZID:Europe/Bucharest
BEGIN:DAYLIGHT
TZOFFSETFROM:+0200
TZOFFSETTO:+0300
TZNAME:EEST
DTSTART:20240331T010000
END:DAYLIGHT
BEGIN:STANDARD
TZOFFSETFROM:+0300
TZOFFSETTO:+0200
TZNAME:EET
DTSTART:20241027T010000
END:STANDARD
BEGIN:DAYLIGHT
TZOFFSETFROM:+0200
TZOFFSETTO:+0300
TZNAME:EEST
DTSTART:20250330T010000
END:DAYLIGHT
BEGIN:STANDARD
TZOFFSETFROM:+0300
TZOFFSETTO:+0200
TZNAME:EET
DTSTART:20251026T010000
END:STANDARD
BEGIN:DAYLIGHT
TZOFFSETFROM:+0200
TZOFFSETTO:+0300
TZNAME:EEST
DTSTART:20260329T010000
END:DAYLIGHT
BEGIN:STANDARD
TZOFFSETFROM:+0300
TZOFFSETTO:+0200
TZNAME:EET
DTSTART:20261025T010000
END:STANDARD
END:VTIMEZONE
BEGIN:VEVENT
DTSTART;TZID=Europe/Bucharest:20251126T190000
DTEND;TZID=Europe/Bucharest:20251126T200000
DTSTAMP:20260422T164112
CREATED:20251123T095124Z
LAST-MODIFIED:20251123T100111Z
UID:999155-1764183600-1764187200@pmi.ro
SUMMARY:Adunarea Generală a Membrilor - rezultate alegeri turul I
DESCRIPTION:Stimați membri ai comunității PMI România Chapter\,\n\n\nVă invităm la Adunarea Generală a membrilor în cadrul căreia vor fi prezentare rezultatele primului tur al alegerilor organizate în anul 2025 pentru ocuparea pozițiilor următoare:\n\n\nVicepreședinte Finanțe și Trezorerie\n\n\nDirector Comunicare și Publicitate\n\n\nSecretar Executiv\n\n\n\nAdunarea Generală a Membrilor este programată pe 26.11.2025 cu începere de la ora 19:00.\nPuteți să participați la AGM folosind link-ul următor.\n\nCu stimă\,\nComitetul Director al PMI România Chapter
URL:https://pmi.ro/en/event/adunarea-generala-a-membrilor-rezultate-algeri-turul-i/
END:VEVENT
END:VCALENDAR