BEGIN:VCALENDAR
VERSION:2.0
PRODID:-//Project Management Institute Romania - ECPv6.15.17//NONSGML v1.0//EN
CALSCALE:GREGORIAN
METHOD:PUBLISH
X-ORIGINAL-URL:https://pmi.ro/en
X-WR-CALDESC:Evenimente pentru Project Management Institute Romania
REFRESH-INTERVAL;VALUE=DURATION:PT1H
X-Robots-Tag:noindex
X-PUBLISHED-TTL:PT1H
BEGIN:VTIMEZONE
TZID:Europe/Bucharest
BEGIN:DAYLIGHT
TZOFFSETFROM:+0200
TZOFFSETTO:+0300
TZNAME:EEST
DTSTART:20240331T010000
END:DAYLIGHT
BEGIN:STANDARD
TZOFFSETFROM:+0300
TZOFFSETTO:+0200
TZNAME:EET
DTSTART:20241027T010000
END:STANDARD
BEGIN:DAYLIGHT
TZOFFSETFROM:+0200
TZOFFSETTO:+0300
TZNAME:EEST
DTSTART:20250330T010000
END:DAYLIGHT
BEGIN:STANDARD
TZOFFSETFROM:+0300
TZOFFSETTO:+0200
TZNAME:EET
DTSTART:20251026T010000
END:STANDARD
BEGIN:DAYLIGHT
TZOFFSETFROM:+0200
TZOFFSETTO:+0300
TZNAME:EEST
DTSTART:20260329T010000
END:DAYLIGHT
BEGIN:STANDARD
TZOFFSETFROM:+0300
TZOFFSETTO:+0200
TZNAME:EET
DTSTART:20261025T010000
END:STANDARD
END:VTIMEZONE
BEGIN:VEVENT
DTSTART;TZID=Europe/Bucharest:20250510T103000
DTEND;TZID=Europe/Bucharest:20250510T123000
DTSTAMP:20260423T024250
CREATED:20250504T050205Z
LAST-MODIFIED:20250504T050205Z
UID:6104-1746873000-1746880200@pmi.ro
SUMMARY:PM Cafe București-a doua ediție 2025
DESCRIPTION:Dragă comunitate PMI\, \nPM Cafe București revine pe 10 mai și te invităm să iei parte la o dimineață altfel! \nDacă ești membru PMI România Chapter și vrei să începi ziua într-un mod relaxat\, dar valoros\, te așteptăm la o nouă ediție PM Cafe – un eveniment informal dedicat pasionaților de project management. \nCe te așteaptă la PM Cafe?\n☕ O cafea bună\, din partea noastră\n🤝 Conexiuni autentice cu profesioniști din industrie\n💬 Discuții deschise despre provocări\, soluții și idei din lumea project managementului\n✨ O atmosferă prietenoasă\, fără prezentări formale\, doar oameni și conversații reale \nProfita de ocazia de a-ți extinde rețeaua profesională\, de a împărtăși experiențe și de a te conecta cu comunitatea PMI. \n🚦Ne revedem pe 10 Mai 2025\, la București. \nDetaliile întâlnirii: \n🗓 Când: Sâmbătă\, 10.05.2025\, între orele 10:30 și 12:30\n✋ Cum: Linkul de înregistrare a fost comunicat prin email\n📍 Unde: Locația va fi comunicată odată cu confirmarea înregistrării \nLocurile sunt limitate\, așa că rezervă-ți locul până pe 09.05.2025\, ora 10:00. \nTe așteptăm la cafea!
URL:https://pmi.ro/en/event/pm-cafe-bucuresti-a-doua-editie-2025/
END:VEVENT
BEGIN:VEVENT
DTSTART;TZID=Europe/Bucharest:20250526T190000
DTEND;TZID=Europe/Bucharest:20250526T203000
DTSTAMP:20260423T024250
CREATED:20250519T182501Z
LAST-MODIFIED:20250519T184258Z
UID:6122-1748286000-1748291400@pmi.ro
SUMMARY:Ziua 1 Semi-Marathon - Abilități soft de bază pentru managerii de proiect
DESCRIPTION:Abilități soft de bază pentru managerii de proiect\n🗓️ Data: 26 mai 2025\n🕐 Ora: 19:00-20:30 EET/ 18:00-19:30 CET\n📍 Locație: Online \n🔹Despre eveniment\nÎn mediul de lucru rapid și complex de astăzi\, abilitățile tehnice nu mai sunt suficiente. Pentru a conduce cu adevărat\, managerii de proiect trebuie să stăpânească un set de abilități de bază\, începând cu ei înșiși. Acest webinar perspicace\, găzduit de PMI România în parteneriat cu PMI Ungaria\, va explora modul în care conștientizarea de sine\, inteligența emoțională și managementul relațiilor formează fundamentul unei conduceri eficiente de proiect.\nIndiferent dacă gestionați proiecte\, conduceți echipe sau doriți să vă dezvoltați setul de instrumente de leadership\, această sesiune este pentru dvs. \nSubiecte cheie acoperite\n\nÎnțelege-te pe tine înainte de a-i conduce pe alții\nReglarea emoțională în medii cu stres ridicat\nImportanța autocunoașterii în conducerea proiectelor\nDinamica echipei și managementul relațiilor interpersonale\nAbilitățile de bază de bază pe care fiecare manager de proiect trebuie să le dezvolte\n\n🎤 Despre Speaker\n\n\nPsiholog de Coaching și Mediator la locul de muncă\n12+ ani de experiență în managementul proiectelor\n8+ ani în dezvoltarea echipei și a conducerii\nCertificată PMP & PRINCE2\nManager de proiect al anului – Ungaria\, 2013\n\nJulianna combină experiența practică cu o perspectivă psihologică profundă pentru a ajuta liderii să prospere în medii din lumea reală. \n🔗 Înregistrați-vă aici\nLocurile sunt limitate – nu ratați această oportunitate de a dezvolta abilitățile care contează cel mai mult.\n\nParticipanții vor primi 1\,5 PDU-uri din categoria Power Skills.\n\nPentru mai multe evenimente și actualizări\, urmăriți-ne pe LinkedIn și Facebook.
URL:https://pmi.ro/en/event/core-soft-skills-for-project-managers/
END:VEVENT
BEGIN:VEVENT
DTSTART;TZID=Europe/Bucharest:20250527T190000
DTEND;TZID=Europe/Bucharest:20250527T203000
DTSTAMP:20260423T024250
CREATED:20250519T191553Z
LAST-MODIFIED:20250519T191553Z
UID:6146-1748372400-1748377800@pmi.ro
SUMMARY:Ziua 2 Semi-Marathon - De la luptă la sinergie – Strategii inspirate de coaching pentru a construi echipe mai puternice
DESCRIPTION:De la luptă la sinergie – Strategii inspirate de coaching pentru a construi echipe mai puternice\n🗓️ Data: 27 mai 2025\n🕖 Ora: 19:00 – 20:30 EET/ 18:00-19:30 CET\n📍 Locație: Online \n🔍 Despre sesiune\nChiar și cele mai talentate echipe se pot lupta să lucreze bine împreună. De ce? \n\nAlăturați-vă PMI România și PMI Bulgaria pentru un webinar perspicace care analizează cauzele fundamentale ale disfuncționalității echipei și explorează strategiile inspirate de coaching pentru a îmbunătăți claritatea\, încrederea și colaborarea\, în special în mediile de proiect cu presiune ridicată sau cu ritm rapid.\n\nÎn această sesiune practică și captivantă\, ne vom concentra pe provocările din lumea reală și ne vom oferi tehnici extrase din coaching\, leadership agil și management de proiect pentru a vă ajuta să creați echipe mai puternice și mai rezistente.\n\n💡 Elemente cheie de reținut\n\nCum să remediați întreruperile comune de colaborare\nFolosind obiceiuri de feedback și retrospective eficiente pentru a crește performanța\nAlinierea rolurilor și stabilirea așteptărilor pentru o mai mare claritate\nInstrumente de personalitate pentru a înțelege mai bine dinamica echipei\nPractici de coaching pentru a întări încrederea și a gestiona stresul echipei\n\n🎤 Despre Speaker\n \n\nSenior Agile Lead la Commerzbank\nVP pentru Dezvoltare Proiecte & Voluntara la PMI Bulgaria Chapter\nManager de proiect al PM Summit Bulgaria 2023\, reunind peste 900 de profesioniști\nMBA Executiv (Universitatea din Sheffield)\, Master în Finanțe\nCertificat în Agile\, coaching\, și management de proiect\n\nKaloyan este un coach pasionat de leadership care sprijină indivizii și echipele în navigarea schimbărilor și îmbunătățirea performanței în toate industriile. \n🔗 Înregistrați-vă aici\nLocurile sunt limitate – nu ratați această oportunitate de a dezvolta abilitățile care contează cel mai mult.\n💼Participanții vor câștiga 1\,5 PDU-uri din categoria Power Skills.\n\nPentru mai multe evenimente și oportunități\, urmăriți-ne pe LinkedIn\, Facebook sau vizitați pagina noastră Evenimente.
URL:https://pmi.ro/en/event/ziua-2-semi-marathon-de-la-lupta-la-sinergie-strategii-inspirate-de-coaching-pentru-a-construi-echipe-mai-puternice/
ORGANIZER;CN="PMI Romania Chapter":MAILTO:office@pmi.ro
END:VEVENT
BEGIN:VEVENT
DTSTART;TZID=Europe/Bucharest:20250528T190000
DTEND;TZID=Europe/Bucharest:20250528T203000
DTSTAMP:20260423T024250
CREATED:20250520T185402Z
LAST-MODIFIED:20250520T185402Z
UID:6159-1748458800-1748464200@pmi.ro
SUMMARY:Ziua 3 Semi-maraton - Management de proiect bazat pe valoare: abilitatea esențială pentru o transformare de succes
DESCRIPTION:Management de proiect bazat pe valoare: abilitatea esențială pentru o transformare de succes\n📅 Data: 28 mai 2025\n🕖 Ora: 19:00–20:30 EET / 18:00-19:30 CET\n📍 Locație: Online\n\n🔍 Despre sesiune\nMulte eforturi de transformare sunt insuficiente\, nu din cauza eșecului tehnic\, ci din cauza că liderilor le lipsește o înțelegere comună a ceea ce generează cu adevărat valoarea.\nÎn această sesiune captivantă\, vom explora modul în care managerii de proiect pot aplica gândirea bazată pe valoare pentru a asigura alinierea strategică\, pentru a îmbunătăți procesul decizional și pentru a sprijini transformarea durabilă a afacerii.\n\n💡 Recomandări cheie de reținut:\n\nIdentificați factorii de valoare din spatele transformării de succes\nAliniați echipele și părțile interesate pe rezultate măsurabile\nConstruiți o perspectivă strategică și adaptabilitate în abordarea dvs. de conducere\n\n👤 Despre Speaker\n \n\nVice Președinte\, PMI Chapter Macedonia de Nord\nEngineering Center Director la Qinshift & Avenga\nPeste 20 de ani de experiență în livrarea de proiecte și transformarea organizațională\nMSc în Management de Proiect | BSc in Computer Science\n\nJasmina a condus inițiative complexe în cadrul organizațiilor internaționale\, cu un accent constant pe furnizarea de valoare\, generarea de rezultate și conducerea schimbării.\n🔗 Înregistrați-vă aici\nLocurile sunt limitate – nu ratați această oportunitate de a dezvolta abilitățile care contează cel mai mult. \n\n💼Participanții vor primi 1\,5 PDU-uri din categoria Business Acumen.\n\nPentru mai multe evenimente și oportunități\, urmăriți-ne pe LinkedIn\, Facebook sau vizitați pagina noastră Evenimente.\n\n\nNu ratați această oportunitate de învățare\, cu impact mare\, în cadrul semi-maratonului PMI 2025!
URL:https://pmi.ro/en/event/ziua-3-semi-maraton-management-de-proiect-bazat-pe-valoare-abilitatea-esentiala-pentru-o-transformare-de-succes/
ORGANIZER;CN="PMI Romania Chapter":MAILTO:office@pmi.ro
END:VEVENT
BEGIN:VEVENT
DTSTART;TZID=Europe/Bucharest:20250529T190000
DTEND;TZID=Europe/Bucharest:20250529T203000
DTSTAMP:20260423T024250
CREATED:20250324T153932Z
LAST-MODIFIED:20250520T191247Z
UID:5977-1748545200-1748550600@pmi.ro
SUMMARY:Ziua 4 Semi-Marathon - Inteligența emoțională: o competență cheie pentru managerii de proiect
DESCRIPTION:Inteligența emoțională: o competență cheie pentru managerii de proiect\n📅 Data: 29 mai 2025\n🕖 Ora: 19:00–20:30 EET / 18:00-19:30 CET\n📍 Locație: Online \n🔍 Despre Sesiune\nProcesele sunt flexibile\, succesul este adesea nedefinit\, iar conflictul este inevitabil.\nCe menține proiectele în mișcare? Inteligența emoțională.\nAceastă sesiune va explora modul în care managerii de proiect pot folosi conștientizarea de sine\, empatia și abilitățile de comunicare pentru a naviga cu încredere și claritate în provocările echipei din lumea reală și dinamica părților interesate.\n\n💡 Recomandări cheie de reținut:\n\nRecunoașteți valoarea Inteligenței Emoționale în gestionarea stresului proiectului\nConduceți cu empatie și autenticitate\nUtilizați conflictul și feedback-ul ca instrumente de creștere\n\n👤 Despre Speaker\n \n\nPsiholog\, Coach și IT Manager Senior\n18+ ani în industria IT\, 14 în roluri de conducere\nCertificată PMI și susținătoare puternică a personalizării PMBOK\n\n🔗  Înregistrați-vă aici\nLocurile sunt limitate – nu ratați această oportunitate de a dezvolta abilitățile care contează cel mai mult.\n\n💼Participanții vor câștiga 1\,5 PDU-uri din categoria Power Skills.\nPentru mai multe evenimente și oportunități\, urmăriți-ne pe LinkedIn\, Facebook sau vizitați pagina noastră Evenimente.\nNu ratați această oportunitate de învățare\, cu impact mare\, în cadrul semi-maratonului PMI 2025!
URL:https://pmi.ro/en/event/importanta-inteligentei-emotionale-eq-in-rolul-managerului-de-proiect/
END:VEVENT
BEGIN:VEVENT
DTSTART;TZID=Europe/Bucharest:20250530T190000
DTEND;TZID=Europe/Bucharest:20250530T203000
DTSTAMP:20260423T024250
CREATED:20250520T192856Z
LAST-MODIFIED:20250520T192856Z
UID:6172-1748631600-1748637000@pmi.ro
SUMMARY:Ziua 5 Semi-maraton - Power Panel: Vocile Chapterului despre conducerea proiectelor din ziua de azi
DESCRIPTION:Power Panel: Vocile capitolului despre conducerea proiectului astăzi\n📅 Data: 30 mai 2025\n🕖 Ora: 19:00 – 20:30 / 18:00-19:30 CET\n📍 Locație: Online\n\n🔍 Despre sesiune\nÎn timp ce încheiem semi-maratonul organizat de PMI Regiunea 8\, alăturați-vă acestui power panel în direct\, cu lideri ai capitolului PMI din întreaga regiune. Împreună\, vom explora rolul evolutic al managerilor de proiect și modul în care abilitățile de putere\, agilitatea de conducere și înțelegerea strategică redefinesc succesul proiectului. \n\n💡 De ce să participi:\n\nÎnvățați din poveștile de leadership din lumea reală\nObțineți perspective regionale diverse\nInteracționează cu paneliștii în timpul sesiunii live Q&A\n\n\n👥 Paneliști\n \nO gamă diversă de lideri reprezentând capitolele PMI Ungaria\, Bulgaria\, Macedonia de Nord și România.\n\n🔗 Înregistrați-vă aici\nLocurile sunt limitate – nu ratați această oportunitate de a dezvolta abilitățile care contează cel mai mult. \n\n💼Participanții vor primi 1\,5 PDU-uri din categoria Business Acumen.\nPentru mai multe evenimente și oportunități\, urmăriți-ne pe LinkedIn\, Facebook sau vizitați pagina noastră Evenimente.\n\nNu ratați această oportunitate de învățare\, cu impact mare\, în cadrul semi-maratonului PMI 2025!
URL:https://pmi.ro/en/event/ziua-5-semi-maraton-power-panel-vocile-chapterului-despre-conducerea-proiectelor-din-ziua-de-azi/
END:VEVENT
END:VCALENDAR