BEGIN:VCALENDAR
VERSION:2.0
PRODID:-//PMI Romania - ECPv6.15.17//NONSGML v1.0//EN
CALSCALE:GREGORIAN
METHOD:PUBLISH
X-ORIGINAL-URL:https://pmi.ro/en
X-WR-CALDESC:Events for PMI Romania
REFRESH-INTERVAL;VALUE=DURATION:PT1H
X-Robots-Tag:noindex
X-PUBLISHED-TTL:PT1H
BEGIN:VTIMEZONE
TZID:Europe/Bucharest
BEGIN:DAYLIGHT
TZOFFSETFROM:+0200
TZOFFSETTO:+0300
TZNAME:EEST
DTSTART:20250330T010000
END:DAYLIGHT
BEGIN:STANDARD
TZOFFSETFROM:+0300
TZOFFSETTO:+0200
TZNAME:EET
DTSTART:20251026T010000
END:STANDARD
BEGIN:DAYLIGHT
TZOFFSETFROM:+0200
TZOFFSETTO:+0300
TZNAME:EEST
DTSTART:20260329T010000
END:DAYLIGHT
BEGIN:STANDARD
TZOFFSETFROM:+0300
TZOFFSETTO:+0200
TZNAME:EET
DTSTART:20261025T010000
END:STANDARD
BEGIN:DAYLIGHT
TZOFFSETFROM:+0200
TZOFFSETTO:+0300
TZNAME:EEST
DTSTART:20270328T010000
END:DAYLIGHT
BEGIN:STANDARD
TZOFFSETFROM:+0300
TZOFFSETTO:+0200
TZNAME:EET
DTSTART:20271031T010000
END:STANDARD
END:VTIMEZONE
BEGIN:VEVENT
DTSTART;TZID=Europe/Bucharest:20260428T183000
DTEND;TZID=Europe/Bucharest:20260428T200000
DTSTAMP:20260420T211739
CREATED:20260419T143415Z
LAST-MODIFIED:20260419T143415Z
UID:999297-1777401000-1777406400@pmi.ro
SUMMARY:𝐀𝐫𝐭𝐢𝐟𝐢𝐜𝐢𝐚𝐥 𝐢𝐧𝐭𝐞𝐥𝐥𝐢𝐠𝐞𝐧𝐜𝐞 𝐛𝐞𝐲𝐨𝐧𝐝 𝐜𝐡𝐚𝐭𝐛𝐨𝐭𝐬
DESCRIPTION:PMI Romania Chapter invites you to participate at a new webinar in our monthly series dedicated to professional development in project management\, created to broaden your perspective and help you stay up to date with the latest trends in the field. \n📅 When: 𝐀𝐩𝐫𝐢𝐥 28\, 2026 | 6:30 PM – 8:00 PM | 𝐎𝐧𝐥𝐢𝐧𝐞\n🎟 Free participation\n🗣 Language: Romanian\n🎓 1.5 PDUs (Ways of Working) \n👉 Book your place and join our community:\nhttps://lnkd.in/dcU8C2JZ \nAI adoption isn’t just about technology\, it’s a cultural transformation. Without guiding principles\, AI adoption risks remaining superficial. In this webinar\, we will explore how organizations can implement artificial intelligence in a strategic way\, starting from two essential elements:\n– defining an 𝐀𝐈 𝐌𝐚𝐧𝐢𝐟𝐞𝐬𝐭𝐨 adapted to the company’s culture\n– and launching relevant 𝐢𝐧𝐭𝐞𝐫𝐧𝐚𝐥 𝐩𝐢𝐥𝐨𝐭 𝐩𝐫𝐨𝐣𝐞𝐜𝐭s that generate real value. \nOur speaker is Corina Staicu\, she is the Chief Product Officer at eSolutions\, where she leads the strategy for B2B digital products. Over the past year\, Corina’s primary focus has been on alteus.ai\, the AI platform designed to monitor all AI systems within a company\, ensuring governance and efficiency in enterprise AI usage.\n\nWhat will be covered:\n• Review the AI adoption approach and its implementation within your organization (open discussions)\n• Walk through the AI Manifesto\, clarifying its content and relevance\n• Explore AI use cases beyond chatbots\, including MCP examples (using the alteus.ai platform)\, and discuss where they could apply in your company \n🔗 Join us to discover how artificial intelligence can become a real strategic advantage for your organization.
URL:https://pmi.ro/en/event/%f0%9d%90%80%f0%9d%90%ab%f0%9d%90%ad%f0%9d%90%a2%f0%9d%90%9f%f0%9d%90%a2%f0%9d%90%9c%f0%9d%90%a2%f0%9d%90%9a%f0%9d%90%a5-%f0%9d%90%a2%f0%9d%90%a7%f0%9d%90%ad%f0%9d%90%9e%f0%9d%90%a5%f0%9d%90%a5/?lang=en
ORGANIZER;CN="PMI Romania Chapter":MAILTO:office@pmi.ro
END:VEVENT
END:VCALENDAR