BEGIN:VCALENDAR
VERSION:2.0
PRODID:-//Project Management Institute Romania - ECPv6.15.17//NONSGML v1.0//EN
CALSCALE:GREGORIAN
METHOD:PUBLISH
X-ORIGINAL-URL:https://pmi.ro
X-WR-CALDESC:Evenimente pentru Project Management Institute Romania
REFRESH-INTERVAL;VALUE=DURATION:PT1H
X-Robots-Tag:noindex
X-PUBLISHED-TTL:PT1H
BEGIN:VTIMEZONE
TZID:Europe/Bucharest
BEGIN:DAYLIGHT
TZOFFSETFROM:+0200
TZOFFSETTO:+0300
TZNAME:EEST
DTSTART:20240331T010000
END:DAYLIGHT
BEGIN:STANDARD
TZOFFSETFROM:+0300
TZOFFSETTO:+0200
TZNAME:EET
DTSTART:20241027T010000
END:STANDARD
BEGIN:DAYLIGHT
TZOFFSETFROM:+0200
TZOFFSETTO:+0300
TZNAME:EEST
DTSTART:20250330T010000
END:DAYLIGHT
BEGIN:STANDARD
TZOFFSETFROM:+0300
TZOFFSETTO:+0200
TZNAME:EET
DTSTART:20251026T010000
END:STANDARD
BEGIN:DAYLIGHT
TZOFFSETFROM:+0200
TZOFFSETTO:+0300
TZNAME:EEST
DTSTART:20260329T010000
END:DAYLIGHT
BEGIN:STANDARD
TZOFFSETFROM:+0300
TZOFFSETTO:+0200
TZNAME:EET
DTSTART:20261025T010000
END:STANDARD
END:VTIMEZONE
BEGIN:VEVENT
DTSTART;TZID=Europe/Bucharest:20250327T190000
DTEND;TZID=Europe/Bucharest:20250327T200000
DTSTAMP:20260423T090821
CREATED:20250321T071508Z
LAST-MODIFIED:20250321T112405Z
UID:5952-1743102000-1743105600@pmi.ro
SUMMARY:Tehnici de Comunicare Nonviolentă
DESCRIPTION:Salut\, \nEști interesat să îmbunătățești modul în care comunici și să construiești relații mai armonioase? Te invităm să participi la workshop-ul in care vei afla care sunt tehnicile care te pot ajuta sa comunici efficient. \n \n📅 Data: 27 Martie 2025\n⏰ Ora: 19:00 \nÎn cadrul acestui workshop\, vei învăța: \n\nPrincipiile comunicării nonviolente\nTehnici pentru gestionarea conflictelor\nModalități de exprimare a emoțiilor și nevoilor într-un mod constructiv\n\nBeneficii: \n\nÎmbunătățirea relațiilor personale și profesionale\nCreșterea empatiei și înțelegerii\nDezvoltarea abilităților de ascultare activă\n\nCum te poți înscrie: completând acest formular. \nTe așteptăm la eveniment! \nDespre speaker – scurt bio:\nDaniela Chiricioaia este un expert recunoscut în domeniul managementului de proiect și al transformării agile\, cu o experiență vastă în coordonarea echipelor și implementarea strategiilor de succes. În prezent\, ocupă funcția de Senior Project Director la OPEN Groupe\, unde contribuie la dezvoltarea și optimizarea proceselor agile. Daniela este absolventă a facultății de Matematică Informatică din cadrul Universității Constanța\, cu un masterat în informatică\, și deține mai multe certificări printre care amintim PMP\, PMI-ACP\, SAFe Practice Consultant\, DASSM și Agile Coach Enterprise. \nPe lângă rolul său profesional\, Daniela este implicată ca voluntar în diverse organizații. A fost voluntar în PWN Global în rolul de Mentoring Leader promovând Leadershipul feminin. În prezent este voluntar asociat în ICF România\, contribuind activ la profesionalizarea Coachingului în România. Cu o pasiune pentru agilitate\, formare\, facilitare și dezvoltare personală\, Daniela este dedicată să inspire și să ghideze profesionistii în atingerea obiectivelor lor. \nDaniela are\, de asemenea\, o experiență semnificativă în comunicarea nonviolentă\, fiind un facilitator activ în acest domeniu. Ea a organizat și condus numeroase workshop-uri și sesiuni de formare\, ajutând participanții să își dezvolte abilitățile de comunicare empatică și să gestioneze conflictele într-un mod constructiv. \nSe acordă 1 PDU din categoria Ways-of-Working. \nVă așteptăm la eveniment\, \nEchipa PMI România
URL:https://pmi.ro/event/tehnici-de-comunicare-nonviolenta/
END:VEVENT
END:VCALENDAR