BEGIN:VCALENDAR
VERSION:2.0
PRODID:-//Project Management Institute Romania - ECPv6.15.17//NONSGML v1.0//EN
CALSCALE:GREGORIAN
METHOD:PUBLISH
X-WR-CALNAME:Project Management Institute Romania
X-ORIGINAL-URL:https://pmi.ro
X-WR-CALDESC:Evenimente pentru Project Management Institute Romania
REFRESH-INTERVAL;VALUE=DURATION:PT1H
X-Robots-Tag:noindex
X-PUBLISHED-TTL:PT1H
BEGIN:VTIMEZONE
TZID:Europe/Bucharest
BEGIN:DAYLIGHT
TZOFFSETFROM:+0200
TZOFFSETTO:+0300
TZNAME:EEST
DTSTART:20240331T010000
END:DAYLIGHT
BEGIN:STANDARD
TZOFFSETFROM:+0300
TZOFFSETTO:+0200
TZNAME:EET
DTSTART:20241027T010000
END:STANDARD
BEGIN:DAYLIGHT
TZOFFSETFROM:+0200
TZOFFSETTO:+0300
TZNAME:EEST
DTSTART:20250330T010000
END:DAYLIGHT
BEGIN:STANDARD
TZOFFSETFROM:+0300
TZOFFSETTO:+0200
TZNAME:EET
DTSTART:20251026T010000
END:STANDARD
BEGIN:DAYLIGHT
TZOFFSETFROM:+0200
TZOFFSETTO:+0300
TZNAME:EEST
DTSTART:20260329T010000
END:DAYLIGHT
BEGIN:STANDARD
TZOFFSETFROM:+0300
TZOFFSETTO:+0200
TZNAME:EET
DTSTART:20261025T010000
END:STANDARD
END:VTIMEZONE
BEGIN:VEVENT
DTSTART;TZID=Europe/Bucharest:20250626T190000
DTEND;TZID=Europe/Bucharest:20250626T200000
DTSTAMP:20260423T040005
CREATED:20250621T061422Z
LAST-MODIFIED:20250621T061422Z
UID:6239-1750964400-1750968000@pmi.ro
SUMMARY:Cum să vă alimentați brandul personal cu AI: strategie\, promovare\, evoluție
DESCRIPTION:Imaginea ta personală există deja\, chiar dacă nu ai definit-o încă.\nAdevărata întrebare este: modelezi narațiunea? \nAlăturați-vă nouă la o sesiune practică despre „Cum să vă alimentați brandul personal cu AI: Strategie\, promovare\, evoluție” cu Irina Verlan\, un agent de marketing de creștere strategică cunoscut pentru extinderea strategiilor de introducere pe piață în Europa și pe piețele emergente. \n \n🧠 În acest workshop interactiv\, vei descoperi:\n✅ Ce înseamnă cu adevărat brandingul personal (dincolo de cuvinte la modă)\n✅ Cum să elaborezi o strategie de branding personală aliniată cu rolul și obiectivele tale\n✅ Cum instrumentele AI\, precum ChatGPT și Canva\, pot sprijini crearea de conținut\, mesajele și prezența\n✅ Cum să soliciți inteligenței artificiale să îți îmbunătățească vizibilitatea\, fără a suna ca toți ceilalți \nPerfect pentru profesioniștii care doresc să-și dezvolte influența\, să pivoteze rolurile sau pur și simplu să apară mai intenționat – această sesiune este următoarea evoluție a mărcii dvs. \n📅 26 iunie 2025\n⏰ 19:00-20:00 EET\n🎤 Speaker: Irina Verlan\n🌍 Eveniment online\n📕 Limba: engleza\n1 PDU – Power Skills \n👉🔗 Înregistrează-te aici \nNe vedem acolo? \nEchipa PMI România
URL:https://pmi.ro/event/cum-sa-va-alimentati-brandul-personal-cu-ai-strategie-promovare-evolutie/
END:VEVENT
END:VCALENDAR