BEGIN:VCALENDAR
VERSION:2.0
PRODID:-//Project Management Institute Romania - ECPv6.15.17//NONSGML v1.0//EN
CALSCALE:GREGORIAN
METHOD:PUBLISH
X-WR-CALNAME:Project Management Institute Romania
X-ORIGINAL-URL:https://pmi.ro
X-WR-CALDESC:Evenimente pentru Project Management Institute Romania
REFRESH-INTERVAL;VALUE=DURATION:PT1H
X-Robots-Tag:noindex
X-PUBLISHED-TTL:PT1H
BEGIN:VTIMEZONE
TZID:UTC
BEGIN:STANDARD
TZOFFSETFROM:+0000
TZOFFSETTO:+0000
TZNAME:UTC
DTSTART:20200101T000000
END:STANDARD
END:VTIMEZONE
BEGIN:VEVENT
DTSTART;TZID=UTC:20211118T080000
DTEND;TZID=UTC:20211118T170000
DTSTAMP:20260422T000639
CREATED:20211203T024707Z
LAST-MODIFIED:20211203T024707Z
UID:967-1637222400-1637254800@pmi.ro
SUMMARY:#Marathon PM – Digital PM
DESCRIPTION:Ziua 4 Marathon PM  \nSpeaker: Raluca Cimpea
URL:https://pmi.ro/event/marathon-pm-digital-pm-4/
ORGANIZER;CN="PMI Romania Chapter":MAILTO:office@pmi.ro
END:VEVENT
BEGIN:VEVENT
DTSTART;VALUE=DATE:20211117
DTEND;VALUE=DATE:20211118
DTSTAMP:20260422T000639
CREATED:20211203T024627Z
LAST-MODIFIED:20211203T031436Z
UID:965-1637107200-1637193599@pmi.ro
SUMMARY:#Marathon PM – Digital PM
DESCRIPTION:Ziua 3 Marathon PM  \nSpeaker: Dan Radu Iacob
URL:https://pmi.ro/event/marathon-pm-digital-pm-3/
ORGANIZER;CN="PMI Romania Chapter":MAILTO:office@pmi.ro
END:VEVENT
BEGIN:VEVENT
DTSTART;VALUE=DATE:20211116
DTEND;VALUE=DATE:20211117
DTSTAMP:20260422T000639
CREATED:20211203T024508Z
LAST-MODIFIED:20211203T024521Z
UID:963-1637020800-1637107199@pmi.ro
SUMMARY:#Marathon PM – Digital PM
DESCRIPTION:Ziua 2 Marathon PM  \nSpeaker: Oana Bucur
URL:https://pmi.ro/event/marathon-pm-digital-pm-2/
ORGANIZER;CN="PMI Romania Chapter":MAILTO:office@pmi.ro
END:VEVENT
BEGIN:VEVENT
DTSTART;VALUE=DATE:20211115
DTEND;VALUE=DATE:20211116
DTSTAMP:20260422T000639
CREATED:20211203T024232Z
LAST-MODIFIED:20211203T024409Z
UID:957-1636934400-1637020799@pmi.ro
SUMMARY:#Marathon PM – Digital PM
DESCRIPTION:Ziua 1 Marathon PM \nSpeaker: Mihai Olaru si Cristina Lupu
URL:https://pmi.ro/event/marathon-pm-digital-pm/
ORGANIZER;CN="PMI Romania Chapter":MAILTO:office@pmi.ro
END:VEVENT
BEGIN:VEVENT
DTSTART;VALUE=DATE:20210930
DTEND;VALUE=DATE:20211001
DTSTAMP:20260422T000639
CREATED:20211203T024035Z
LAST-MODIFIED:20211203T024035Z
UID:954-1632960000-1633046399@pmi.ro
SUMMARY:Constituire comitet alegeri si nominalizari
DESCRIPTION:Constituire comitet alegeri si nominalizari
URL:https://pmi.ro/event/constituire-comitet-alegeri-si-nominalizari/
ORGANIZER;CN="PMI Romania Chapter":MAILTO:office@pmi.ro
END:VEVENT
END:VCALENDAR