BEGIN:VCALENDAR
VERSION:2.0
PRODID:-//Project Management Institute Romania - ECPv6.15.17//NONSGML v1.0//EN
CALSCALE:GREGORIAN
METHOD:PUBLISH
X-WR-CALNAME:Project Management Institute Romania
X-ORIGINAL-URL:https://pmi.ro
X-WR-CALDESC:Evenimente pentru Project Management Institute Romania
REFRESH-INTERVAL;VALUE=DURATION:PT1H
X-Robots-Tag:noindex
X-PUBLISHED-TTL:PT1H
BEGIN:VTIMEZONE
TZID:Europe/Helsinki
BEGIN:DAYLIGHT
TZOFFSETFROM:+0200
TZOFFSETTO:+0300
TZNAME:EEST
DTSTART:20200329T010000
END:DAYLIGHT
BEGIN:STANDARD
TZOFFSETFROM:+0300
TZOFFSETTO:+0200
TZNAME:EET
DTSTART:20201025T010000
END:STANDARD
BEGIN:DAYLIGHT
TZOFFSETFROM:+0200
TZOFFSETTO:+0300
TZNAME:EEST
DTSTART:20210328T010000
END:DAYLIGHT
BEGIN:STANDARD
TZOFFSETFROM:+0300
TZOFFSETTO:+0200
TZNAME:EET
DTSTART:20211031T010000
END:STANDARD
BEGIN:DAYLIGHT
TZOFFSETFROM:+0200
TZOFFSETTO:+0300
TZNAME:EEST
DTSTART:20220327T010000
END:DAYLIGHT
BEGIN:STANDARD
TZOFFSETFROM:+0300
TZOFFSETTO:+0200
TZNAME:EET
DTSTART:20221030T010000
END:STANDARD
BEGIN:DAYLIGHT
TZOFFSETFROM:+0200
TZOFFSETTO:+0300
TZNAME:EEST
DTSTART:20230326T010000
END:DAYLIGHT
BEGIN:STANDARD
TZOFFSETFROM:+0300
TZOFFSETTO:+0200
TZNAME:EET
DTSTART:20231029T010000
END:STANDARD
END:VTIMEZONE
BEGIN:VTIMEZONE
TZID:UTC
BEGIN:STANDARD
TZOFFSETFROM:+0000
TZOFFSETTO:+0000
TZNAME:UTC
DTSTART:20200101T000000
END:STANDARD
END:VTIMEZONE
BEGIN:VEVENT
DTSTART;TZID=Europe/Helsinki:20220120T183000
DTEND;TZID=Europe/Helsinki:20220120T193000
DTSTAMP:20260421T133208
CREATED:20220118T082348Z
LAST-MODIFIED:20220118T092422Z
UID:1637-1642703400-1642707000@pmi.ro
SUMMARY:Management (r)evolution: Managing the right things right with Disciplined Agile
DESCRIPTION:Speaker: Valentin Tudor Mocanu \nDescriere: \nWhat exactly do we do? Projects\, business? Functional teams\, product teams? And especially what aspects do we manage? Starting with the need\, says Taiichi Ohno\, in the „Toyota Production System”. So what exactly do we need to be careful about? Projects\, product health\, improvement? Disciplined Agile provides guidance on how to handle things properly and how to fill the gaps in our management \nRegister in advance for this meeting:\nhttps://us06web.zoom.us/meeting/register/tZcode6qrDMsH9bT5k9Hydsq7BACTuJBFvZh \nAfter registering\, you will receive a confirmation email containing information about joining the meeting.
URL:https://pmi.ro/event/management-revolution-managing-the-right-things-right-with-disciplined-agile/
ORGANIZER;CN="PMI Romania Chapter":MAILTO:office@pmi.ro
END:VEVENT
BEGIN:VEVENT
DTSTART;VALUE=DATE:20211220
DTEND;VALUE=DATE:20211221
DTSTAMP:20260421T133208
CREATED:20211206T025346Z
LAST-MODIFIED:20211208T151717Z
UID:985-1639958400-1640044799@pmi.ro
SUMMARY:Conferinta de final de an
DESCRIPTION:Conferinta de final de an \nSpeaker: PMI Romania Chapter
URL:https://pmi.ro/event/conferinta-de-final-de-an/
ORGANIZER;CN="PMI Romania Chapter":MAILTO:office@pmi.ro
END:VEVENT
BEGIN:VEVENT
DTSTART;VALUE=DATE:20211216
DTEND;VALUE=DATE:20211217
DTSTAMP:20260421T133208
CREATED:20211208T025314Z
LAST-MODIFIED:20211208T151605Z
UID:983-1639612800-1639699199@pmi.ro
SUMMARY:Adunare Generala membri
DESCRIPTION:Adunare Generala membri – rezultate finale alegeri \nSpeaker: PMI Romania Chapter
URL:https://pmi.ro/event/adunare-generala-membri-2/
ORGANIZER;CN="PMI Romania Chapter":MAILTO:office@pmi.ro
END:VEVENT
BEGIN:VEVENT
DTSTART;VALUE=DATE:20211206
DTEND;VALUE=DATE:20211207
DTSTAMP:20260421T133208
CREATED:20211203T025236Z
LAST-MODIFIED:20211203T025236Z
UID:981-1638748800-1638835199@pmi.ro
SUMMARY:Adunare Generala membri
DESCRIPTION:Adunare Generala membri – rezultate alegeri turul I \nSpeaker: PMI Romania Chapter
URL:https://pmi.ro/event/adunare-generala-membri/
ORGANIZER;CN="PMI Romania Chapter":MAILTO:office@pmi.ro
END:VEVENT
BEGIN:VEVENT
DTSTART;VALUE=DATE:20211126
DTEND;VALUE=DATE:20211127
DTSTAMP:20260421T133208
CREATED:20211203T025147Z
LAST-MODIFIED:20211203T025147Z
UID:979-1637884800-1637971199@pmi.ro
SUMMARY:#Marathon PM – Digital PM
DESCRIPTION:Ziua 10 Marathon PM  \nSpeaker: Ana Iorga
URL:https://pmi.ro/event/marathon-pm-digital-pm-10/
ORGANIZER;CN="PMI Romania Chapter":MAILTO:office@pmi.ro
END:VEVENT
BEGIN:VEVENT
DTSTART;VALUE=DATE:20211125
DTEND;VALUE=DATE:20211126
DTSTAMP:20260421T133208
CREATED:20211203T025057Z
LAST-MODIFIED:20211203T025057Z
UID:977-1637798400-1637884799@pmi.ro
SUMMARY:#Marathon PM – Digital PM
DESCRIPTION:Ziua 9 Marathon PM  \nSpeaker: Roxana Staneiu
URL:https://pmi.ro/event/marathon-pm-digital-pm-9/
ORGANIZER;CN="PMI Romania Chapter":MAILTO:office@pmi.ro
END:VEVENT
BEGIN:VEVENT
DTSTART;VALUE=DATE:20211124
DTEND;VALUE=DATE:20211125
DTSTAMP:20260421T133208
CREATED:20211203T025019Z
LAST-MODIFIED:20211203T025019Z
UID:975-1637712000-1637798399@pmi.ro
SUMMARY:#Marathon PM – Digital PM
DESCRIPTION:Ziua 8 Marathon PM  \nSpeaker: Simona Bonghez
URL:https://pmi.ro/event/marathon-pm-digital-pm-8/
ORGANIZER;CN="PMI Romania Chapter":MAILTO:office@pmi.ro
END:VEVENT
BEGIN:VEVENT
DTSTART;VALUE=DATE:20211123
DTEND;VALUE=DATE:20211124
DTSTAMP:20260421T133208
CREATED:20211203T024944Z
LAST-MODIFIED:20211203T024944Z
UID:973-1637625600-1637711999@pmi.ro
SUMMARY:#Marathon PM – Digital PM
DESCRIPTION:Ziua 7 Marathon PM  \nSpeaker: Alexandru Moise
URL:https://pmi.ro/event/marathon-pm-digital-pm-7/
ORGANIZER;CN="PMI Romania Chapter":MAILTO:office@pmi.ro
END:VEVENT
BEGIN:VEVENT
DTSTART;VALUE=DATE:20211122
DTEND;VALUE=DATE:20211123
DTSTAMP:20260421T133208
CREATED:20211203T024907Z
LAST-MODIFIED:20211203T024907Z
UID:971-1637539200-1637625599@pmi.ro
SUMMARY:#Marathon PM – Digital PM
DESCRIPTION:Ziua 6 Marathon PM  \nSpeaker: Dan Suciu
URL:https://pmi.ro/event/marathon-pm-digital-pm-6/
ORGANIZER;CN="PMI Romania Chapter":MAILTO:office@pmi.ro
END:VEVENT
BEGIN:VEVENT
DTSTART;VALUE=DATE:20211119
DTEND;VALUE=DATE:20211120
DTSTAMP:20260421T133208
CREATED:20211203T024821Z
LAST-MODIFIED:20211203T024821Z
UID:969-1637280000-1637366399@pmi.ro
SUMMARY:#Marathon PM – Digital PM
DESCRIPTION:Ziua 5 Marathon PM Valentin  \nSpeaker: Tudor Mocanu
URL:https://pmi.ro/event/marathon-pm-digital-pm-5/
ORGANIZER;CN="PMI Romania Chapter":MAILTO:office@pmi.ro
END:VEVENT
BEGIN:VEVENT
DTSTART;TZID=UTC:20211118T080000
DTEND;TZID=UTC:20211118T170000
DTSTAMP:20260421T133208
CREATED:20211203T024707Z
LAST-MODIFIED:20211203T024707Z
UID:967-1637222400-1637254800@pmi.ro
SUMMARY:#Marathon PM – Digital PM
DESCRIPTION:Ziua 4 Marathon PM  \nSpeaker: Raluca Cimpea
URL:https://pmi.ro/event/marathon-pm-digital-pm-4/
ORGANIZER;CN="PMI Romania Chapter":MAILTO:office@pmi.ro
END:VEVENT
BEGIN:VEVENT
DTSTART;VALUE=DATE:20211117
DTEND;VALUE=DATE:20211118
DTSTAMP:20260421T133208
CREATED:20211203T024627Z
LAST-MODIFIED:20211203T031436Z
UID:965-1637107200-1637193599@pmi.ro
SUMMARY:#Marathon PM – Digital PM
DESCRIPTION:Ziua 3 Marathon PM  \nSpeaker: Dan Radu Iacob
URL:https://pmi.ro/event/marathon-pm-digital-pm-3/
ORGANIZER;CN="PMI Romania Chapter":MAILTO:office@pmi.ro
END:VEVENT
BEGIN:VEVENT
DTSTART;VALUE=DATE:20211116
DTEND;VALUE=DATE:20211117
DTSTAMP:20260421T133208
CREATED:20211203T024508Z
LAST-MODIFIED:20211203T024521Z
UID:963-1637020800-1637107199@pmi.ro
SUMMARY:#Marathon PM – Digital PM
DESCRIPTION:Ziua 2 Marathon PM  \nSpeaker: Oana Bucur
URL:https://pmi.ro/event/marathon-pm-digital-pm-2/
ORGANIZER;CN="PMI Romania Chapter":MAILTO:office@pmi.ro
END:VEVENT
BEGIN:VEVENT
DTSTART;VALUE=DATE:20211115
DTEND;VALUE=DATE:20211116
DTSTAMP:20260421T133208
CREATED:20211203T024232Z
LAST-MODIFIED:20211203T024409Z
UID:957-1636934400-1637020799@pmi.ro
SUMMARY:#Marathon PM – Digital PM
DESCRIPTION:Ziua 1 Marathon PM \nSpeaker: Mihai Olaru si Cristina Lupu
URL:https://pmi.ro/event/marathon-pm-digital-pm/
ORGANIZER;CN="PMI Romania Chapter":MAILTO:office@pmi.ro
END:VEVENT
BEGIN:VEVENT
DTSTART;VALUE=DATE:20210930
DTEND;VALUE=DATE:20211001
DTSTAMP:20260421T133208
CREATED:20211203T024035Z
LAST-MODIFIED:20211203T024035Z
UID:954-1632960000-1633046399@pmi.ro
SUMMARY:Constituire comitet alegeri si nominalizari
DESCRIPTION:Constituire comitet alegeri si nominalizari
URL:https://pmi.ro/event/constituire-comitet-alegeri-si-nominalizari/
ORGANIZER;CN="PMI Romania Chapter":MAILTO:office@pmi.ro
END:VEVENT
END:VCALENDAR