BEGIN:VCALENDAR
VERSION:2.0
PRODID:-//Project Management Institute Romania - ECPv6.15.17//NONSGML v1.0//EN
CALSCALE:GREGORIAN
METHOD:PUBLISH
X-WR-CALNAME:Project Management Institute Romania
X-ORIGINAL-URL:https://pmi.ro
X-WR-CALDESC:Evenimente pentru Project Management Institute Romania
REFRESH-INTERVAL;VALUE=DURATION:PT1H
X-Robots-Tag:noindex
X-PUBLISHED-TTL:PT1H
BEGIN:VTIMEZONE
TZID:Europe/Bucharest
BEGIN:DAYLIGHT
TZOFFSETFROM:+0200
TZOFFSETTO:+0300
TZNAME:EEST
DTSTART:20230326T010000
END:DAYLIGHT
BEGIN:STANDARD
TZOFFSETFROM:+0300
TZOFFSETTO:+0200
TZNAME:EET
DTSTART:20231029T010000
END:STANDARD
BEGIN:DAYLIGHT
TZOFFSETFROM:+0200
TZOFFSETTO:+0300
TZNAME:EEST
DTSTART:20240331T010000
END:DAYLIGHT
BEGIN:STANDARD
TZOFFSETFROM:+0300
TZOFFSETTO:+0200
TZNAME:EET
DTSTART:20241027T010000
END:STANDARD
BEGIN:DAYLIGHT
TZOFFSETFROM:+0200
TZOFFSETTO:+0300
TZNAME:EEST
DTSTART:20250330T010000
END:DAYLIGHT
BEGIN:STANDARD
TZOFFSETFROM:+0300
TZOFFSETTO:+0200
TZNAME:EET
DTSTART:20251026T010000
END:STANDARD
END:VTIMEZONE
BEGIN:VEVENT
DTSTART;TZID=Europe/Bucharest:20241102T103000
DTEND;TZID=Europe/Bucharest:20241102T123000
DTSTAMP:20260423T134450
CREATED:20241018T100146Z
LAST-MODIFIED:20241018T103623Z
UID:5644-1730543400-1730550600@pmi.ro
SUMMARY:Lansare PM Cafe Iași
DESCRIPTION:Dragi prieteni\, \nPMI România Chapter lansează prima ediție a PM Cafe la Iași în data de 02 noiembrie 2024\, un eveniment informal\, dedicat membrilor PMI. Vă puteți înregistra la eveniment folosind acest formular. \nDetaliile evenimentului vor fi transmise prin email\, odată cu confirmarea înregistrării. \nCafea și apa sunt din partea casei. 😊 \nNe vedem la eveniment\, \nEchipa PMI România Chapter \n 
URL:https://pmi.ro/event/lansare-pm-cafe-iasi/
ORGANIZER;CN="PMI Romania Chapter":MAILTO:office@pmi.ro
END:VEVENT
BEGIN:VEVENT
DTSTART;TZID=Europe/Bucharest:20241105T180000
DTEND;TZID=Europe/Bucharest:20241105T203000
DTSTAMP:20260423T134451
CREATED:20241031T154352Z
LAST-MODIFIED:20241031T160436Z
UID:5740-1730829600-1730838600@pmi.ro
SUMMARY:Modelul de operare al produsului
DESCRIPTION:Ne vedem la următorul PMI Romania & GlobalLogic Meetup! \nPe 5 noiembrie 2024\, ne adunăm la Hexagon Offices Cluj-Napoca pentru o seară plină de insight-uri\, networking și discuții pe tema Product Operating Model. Dacă ești pasionat de product management sau vrei să îți lărgești orizonturile\, acesta e evenimentul pe care nu vrei să-l ratezi!\n🗓 Când?\n5 noiembrie 2024\, de la 18:00 la 20:30.\n📍 Unde?\nHexagon Offices Cluj\, Calea Turzii nr. 178K – un loc primitor\, pregătit să găzduiască idei mari și oameni inspirați.\n✨ Invitata noastră specială:\nTerezia Neagu Kolozsi\, Senior Product Manager la GlobalLogic\, ne va împărtăși secretele unui model de operare eficient în product management. Iar asta e doar începutul! Vom avea un panel cu experți care vor aborda provocările reale și soluțiile practice din industrie. 🎤\n🔍 Agenda serii:\n18:00 – 18:30: Întâmpinarea participanților & Networking ☕️\n18:30 – 18:45: Deschiderea evenimentului\n18:45 – 19:00: Prezentare GlobalLogic & Dialog PMI\n19:00 – 19:30: Product Operating Model\n19:30 – 20:15: Panel de discuții – fii pregătit să pui întrebări!\n20:15 – 20:30: Încheierea evenimentului\n⚠️ Termen maxim de înscriere:\nAsigură-te că îți rezervi locul până la 1 noiembrie 2024. Locurile sunt limitate!\nPMI Romania și GlobalLogic te așteaptă cu brațele deschise pentru o experiență care îți va stimula mintea și îți va extinde rețeaua profesională. Vino să te conectezi\, să înveți și să te inspiri într-o atmosferă energizantă și plină de entuziasm.\nNotă: Prin înregistrarea dvs.\, sunteți de acord ca PMI Romania și GlobalLogic să publice fotografii sau videoclipuri realizate la acest eveniment pe toate canalele lor de socializare. \nGlobal Logic și PMI România Chapter
URL:https://pmi.ro/event/modelul-de-operare-al-produsului/
ORGANIZER;CN="PMI Romania Chapter":MAILTO:office@pmi.ro
END:VEVENT
BEGIN:VEVENT
DTSTART;TZID=Europe/Bucharest:20241107T190000
DTEND;TZID=Europe/Bucharest:20241107T200000
DTSTAMP:20260423T134451
CREATED:20241022T064642Z
LAST-MODIFIED:20241104T115927Z
UID:5678-1731006000-1731009600@pmi.ro
SUMMARY:De la Siguranță Psihologică la Inovație: Strategii pentru Succes
DESCRIPTION:Dragi prieteni\, \nPMI România vă invită la un workshop în cadrul căruia va fi prezentat conceptul de siguranță psihologică și modul în care poate fi folosit pentru crearea unui mediu de lucru sigur în echipă și organizație. \n \nDe ce să participi la acest workshop: \n\nPoți afla definiția conceptului de siguranță psihologică\nParticipi la discuția despre beneficiile unui mediu sigur din punct de vedere psihologic în echipă și organizație\nÎnțelegi legătura dintre siguranța psihologică și inovație\, și cum un mediu sigur stimulează creativitatea și inițiativele strategice\n\nCând: 07.11.2024\, ora 19:00 EET \nUnde: online \nCum: participarea este gratuită pentru membrii PMI România și se face prin completarea acestui formular.  Pentru non membri se percepe o taxă de participare de 50 lei. Biletele pot fi achiziționate de aici până pe 06 noiembrie\, ora 18:00.    \nSpeaker: Cristina Niculescu \n\nLimba română  \nParticipanții vor primi 1 PDU din categoria Power Skills. \nVă asteptăm cu drag\,  \nEchipa PMI România Chapter 
URL:https://pmi.ro/event/de-la-siguranta-psihologica-la-inovatie-strategii-pentru-succes/
ORGANIZER;CN="PMI Romania Chapter":MAILTO:office@pmi.ro
END:VEVENT
BEGIN:VEVENT
DTSTART;TZID=Europe/Bucharest:20241109T103000
DTEND;TZID=Europe/Bucharest:20241109T123000
DTSTAMP:20260423T134451
CREATED:20241031T153646Z
LAST-MODIFIED:20241031T153726Z
UID:5647-1731148200-1731155400@pmi.ro
SUMMARY:PM Cafe Cluj-Napoca editia a doua
DESCRIPTION:Dragi prieteni\, \nPMI România Chaper organizează a doua ediție a PM Cafe la Cluj Napoca pe 9 noiembrie 2024. Vă puteți înregistra la eveniment folosind acest formular. \nDetaliile evenimentului vor fi transmise pe email. \nCafea și apa sunt din partea casei. \nAbia așteptăm să ne vedem la eveniment! \nEchipa PMI România Chapter
URL:https://pmi.ro/event/pm-cafe-cluj-napoca-editia-a-doua/
ORGANIZER;CN="PMI Romania Chapter":MAILTO:office@pmi.ro
END:VEVENT
BEGIN:VEVENT
DTSTART;TZID=Europe/Bucharest:20241111T190000
DTEND;TZID=Europe/Bucharest:20241111T193000
DTSTAMP:20260423T134451
CREATED:20241031T132233Z
LAST-MODIFIED:20241111T090733Z
UID:5710-1731351600-1731353400@pmi.ro
SUMMARY:Convocare AGM rezultate turul I vot statut nou
DESCRIPTION:Dragi Membri\, \nVă invităm să participați la Adunarea Generală a Membrilor PMI România Chapter care va avea loc în data de 11 Noiembrie 2024\, în intervalul orar 19:00 – 19:30.  \nÎntâlnirea se va desfășura online accesând acest link de pe Teams. \nAgenda întâlnirii cuprinde: \n      1.Rezultatele turului I al alegerilor VoteNet pentru schimbarea noului statut\, aflat în consultare publică în perioada 29.10.2024- 03.11.2024. \n      Turul I al alegerilor se va desfășura în perioada 04.11.2024-10.11.2024. \n      2.Dacă nu vor fi exprimate 50%+1 voturi din numărul total al membrilor cu drept de vot ai asociației\, se va organiza turul II al alegerilor în perioada 12.11.2024-18.11.2024. \nNumai bine\, \nEchipa PMI România Chapter
URL:https://pmi.ro/event/convocare-agm-rezultate-turul-i-vot-statut-nou/
ORGANIZER;CN="PMI Romania Chapter":MAILTO:office@pmi.ro
END:VEVENT
BEGIN:VEVENT
DTSTART;TZID=Europe/Bucharest:20241120T190000
DTEND;TZID=Europe/Bucharest:20241120T194500
DTSTAMP:20260423T134451
CREATED:20241111T085516Z
LAST-MODIFIED:20241111T090549Z
UID:5832-1732129200-1732131900@pmi.ro
SUMMARY:Convocare AGM rezultate finare vot statut nou
DESCRIPTION:Stimați Membri\,\n \nVă invităm să participați la Adunarea Generală a Membrilor PMI România Chapter care va avea loc în data de 20 Noiembrie 2024\, în intervalul orar 19:00 – 19:45. \n \nÎntâlnirea se va desfășura online accesând acest link-ul acesta de Teams.\n \n Agenda întâlnirii cuprinde:\n      1.Rezultatele turului II al alegerilor VoteNet pentru schimbarea noului statut\, care s-a aflat în consultare publică în perioada 29.10.2024- 03.11.2024.\n      2.Turul I al alegerilor se desfășoară în perioada 04.11.2024-10.11.2024. Rezultatele turului I sunt anuntate in cadrul AGM organizat pe 11.11.2024 de la ora 19:00.\n      3.Dacă nu vor fi exprimate 50%+1 voturi din numărul total al membrilor cu drept de vot ai asociației\, turul II al alegerilor are loc în perioada 12.11.2024-18.11.2024. Veți primi pe email detaliile de conectare la sistemul VoteNet. \n \nNumai bine\,\nEchipa PMI România Chapter
URL:https://pmi.ro/event/convocre-agm-rezultate-finare-vot-statut-nou/
ORGANIZER;CN="PMI Romania Chapter":MAILTO:office@pmi.ro
END:VEVENT
BEGIN:VEVENT
DTSTART;TZID=Europe/Bucharest:20241128T190000
DTEND;TZID=Europe/Bucharest:20241128T200000
DTSTAMP:20260423T134451
CREATED:20241113T191130Z
LAST-MODIFIED:20241115T090823Z
UID:5848-1732820400-1732824000@pmi.ro
SUMMARY:Strategii de Succes pentru Managementul Proiectelor și Programelor Hibride
DESCRIPTION:Dragi prieteni\, \nPMI România vă invită la cel de-al doilea eveniment online din luna noiembrie\, Strategii de succes pentru managementul proiectelor și programelor hibride\, cu Natalia Vozian. \n \nSesiunea va pune accent pe abilitățile și strategiile esențiale necesare pentru a naviga complexitatea managementului de proiecte hibride.\nÎn cadrul sesiunii\, veți:\n– învăța cum să utilizați metodologiile tradiționale și agile\, permițându-le să gestioneze proiecte hibride cu o mai mare eficiență și adaptabilitate\n– afla strategii practice și studii de caz care ilustrează managementul proiectelor hibride\n– avea ocazia să vă conectați cu profesioniști și experți din industrie\nSesiunea își propune să vă ofere încrederea de a conduce și gestiona inițiative hibride în mod eficient și cele de mai sus prin discuții interactive și studii de caz din viața reală.\n \n\n📅 Când: 28.11.2024\, 19:00-20:00 (EET)\n💻 Unde: link eveniment\n🎯 Cum:  accesați link-ul pentru înregistrare aici. Membrii PMI România Chapter pot participa gratuit. Cei care nu sunt membri PMI România Chapter pot participa la eveniment cumpărând biletul de aici.\n🎤 Speaker: Natalia Vozian\n🌍 Limba: Română\n \nPDU: Participanții vor primi 0\,5 PDU Ways – of Working\, 0\,5 PDU Business Acumen.\n \nAbia așteptăm să ne vedem! ✨\nEchipa PMI România Chapter\n#PMIRomania #HybridProjects #Programs #Inovatie #ManagementProiecte #PMI
URL:https://pmi.ro/event/strategii-de-succes-pentru-managementul-proiectelor-si-programelor-hibride/
ORGANIZER;CN="PMI Romania Chapter":MAILTO:office@pmi.ro
END:VEVENT
END:VCALENDAR