BEGIN:VCALENDAR
VERSION:2.0
PRODID:-//Project Management Institute Romania - ECPv6.15.17//NONSGML v1.0//EN
CALSCALE:GREGORIAN
METHOD:PUBLISH
X-ORIGINAL-URL:https://pmi.ro
X-WR-CALDESC:Evenimente pentru Project Management Institute Romania
REFRESH-INTERVAL;VALUE=DURATION:PT1H
X-Robots-Tag:noindex
X-PUBLISHED-TTL:PT1H
BEGIN:VTIMEZONE
TZID:Europe/Bucharest
BEGIN:DAYLIGHT
TZOFFSETFROM:+0200
TZOFFSETTO:+0300
TZNAME:EEST
DTSTART:20240331T010000
END:DAYLIGHT
BEGIN:STANDARD
TZOFFSETFROM:+0300
TZOFFSETTO:+0200
TZNAME:EET
DTSTART:20241027T010000
END:STANDARD
BEGIN:DAYLIGHT
TZOFFSETFROM:+0200
TZOFFSETTO:+0300
TZNAME:EEST
DTSTART:20250330T010000
END:DAYLIGHT
BEGIN:STANDARD
TZOFFSETFROM:+0300
TZOFFSETTO:+0200
TZNAME:EET
DTSTART:20251026T010000
END:STANDARD
BEGIN:DAYLIGHT
TZOFFSETFROM:+0200
TZOFFSETTO:+0300
TZNAME:EEST
DTSTART:20260329T010000
END:DAYLIGHT
BEGIN:STANDARD
TZOFFSETFROM:+0300
TZOFFSETTO:+0200
TZNAME:EET
DTSTART:20261025T010000
END:STANDARD
END:VTIMEZONE
BEGIN:VEVENT
DTSTART;TZID=Europe/Bucharest:20250407T191500
DTEND;TZID=Europe/Bucharest:20250407T201500
DTSTAMP:20260423T055033
CREATED:20250406T103354Z
LAST-MODIFIED:20250406T103354Z
UID:6050-1744053300-1744056900@pmi.ro
SUMMARY:Reconvocare Adunare Generală a Membrilor
DESCRIPTION:Dragi membri ai PMI România Chapter\,\n\nDorim să vă informăm că în data de 24.03.2024\, la prima întâlnire a Adunării Generale a Membrilor\, nu s-a întrunit cvorumul necesar de 50%+1 din totalul membrilor. În consecință\, comitetul director al PMI România Chapter a decis\, conform statutului asociației\, reconvocarea întâlnirii pentru data de 07.04.2024\, între orele 7:15 și 8:15 PM.\nÎn cadrul acestei adunări se vor aborda următoarele puncte importante:\n\n\nAprobarea veniturilor si cheltuielilor din anul 2024\n\n\nObiective generale ale PMI RO pentru anul 2025\n\n\nAlte subiecte de interes\n\n\nVă invităm să participați la evenimentul online folosind link-ul link-ul primit pe email.\n\n\n\nCu stimă\,\nEchipa PMI Romania Chapter
URL:https://pmi.ro/event/reconvocare-adunare-generala-a-membrilor/
END:VEVENT
BEGIN:VEVENT
DTSTART;TZID=Europe/Bucharest:20250424T190000
DTEND;TZID=Europe/Bucharest:20250424T200000
DTSTAMP:20260423T055033
CREATED:20250324T153125Z
LAST-MODIFIED:20250415T121841Z
UID:5970-1745521200-1745524800@pmi.ro
SUMMARY:Arta de a spune "Nu": gestionarea modificãrii ariei de cuprindere în proiectele Agile
DESCRIPTION:Gestionarea modificării sfereri de aplicare a proiectului (scope-creep) este ca și cum ai merge la supermarket fără cărucior și fără listă. Intri pentru „doar un singur lucru”\, dar în curând brațele tale sunt pline de gustări\, cumpărături impulsive și un pepene pe care cu siguranță nu ai plănuit.\nProiectele sunt aceleași – micile schimbări se adună și\, brusc\, termenele limită alunecă\, bugetele explodează și echipa ta este copleșită.\nDeci\, cum oprești nebunia? Alăturați-vă nouă\, în următoarea noastră sesiune numită „Arta de a spune nu: gestionarea scăderii sferei de aplicare în proiectele agile” pentru a explora în profunzime acest subiect împreună cu  Florentina Saizu. \n \nFlorentina este un manager de proiect senior\, la MassMutual\, cu o pasiune pentru agilitate\, livrare și pentru a împiedica proiectele să iasă de pe traseul stabilit. Cu experiență în Scrum\, Kanban și Analiza de business\, ea a petrecut ani de zile ajutând echipele să rămână concentrate\, părțile interesate să rămână fericiți\, iar sfera de cuprindere a proiectului să rămână sub control. Îi place să transforme haosul în claritate și să găsească echilibrul perfect între flexibilitate și structură.\n\nDacă doriți să aflați cum să identificați răufăcătorul ascuns al managementului de proiect – scope creep – și cum să îl opriți fără a vă face inamici\, alăturați-vă nouă.\n\nHai să aflăm împreună\, înregistrează-te acum aici: folosind acest formular.\n\n📅 24 Aprilie 2025\n⏰ 19:00 – 20:00 EET\n🎤 Speaker: Florentina Saizu\n🌍 Eveniment online\n📕 Limba: Engleză\n\n\nParticipanții vor fi recompensați cu 1 PDU din categoria Ways-of-Working.\n\nVă asteptăm la eveniment!\n\nEchipa PMI România Chapter
URL:https://pmi.ro/event/arta-de-a-spune-nu-gestionarea-modificarii-ariei-de-cuprindere-in-proiectele-agile/
END:VEVENT
BEGIN:VEVENT
DTSTART;TZID=Europe/Bucharest:20250429T183000
DTEND;TZID=Europe/Bucharest:20250429T203000
DTSTAMP:20260423T055033
CREATED:20250428T104823Z
LAST-MODIFIED:20250428T105830Z
UID:6098-1745951400-1745958600@pmi.ro
SUMMARY:PM Cafe Iaşi - a treia ediţie
DESCRIPTION:PMI România Chapter organizeazã a treia ediţie a întâlnirilor PM Cafe la Iaşi. \nDetaliile întâlnirii sunt trasmise pe email celor înscrişi. \nVã aşteptãm! \nEchipa PMI România Chapter
URL:https://pmi.ro/event/pm-cafe-iasi-third-edition/
ORGANIZER;CN="PMI Romania Chapter":MAILTO:office@pmi.ro
END:VEVENT
END:VCALENDAR